BEGIN:VCALENDAR
VERSION:2.0
PRODID:-//IGNITING HOPE - ECPv6.15.20//NONSGML v1.0//EN
CALSCALE:GREGORIAN
METHOD:PUBLISH
X-WR-CALNAME:IGNITING HOPE
X-ORIGINAL-URL:https://iignitinghope.org
X-WR-CALDESC:Events for IGNITING HOPE
REFRESH-INTERVAL;VALUE=DURATION:PT1H
X-Robots-Tag:noindex
X-PUBLISHED-TTL:PT1H
BEGIN:VTIMEZONE
TZID:America/Toronto
BEGIN:DAYLIGHT
TZOFFSETFROM:-0500
TZOFFSETTO:-0400
TZNAME:EDT
DTSTART:20240310T070000
END:DAYLIGHT
BEGIN:STANDARD
TZOFFSETFROM:-0400
TZOFFSETTO:-0500
TZNAME:EST
DTSTART:20241103T060000
END:STANDARD
BEGIN:DAYLIGHT
TZOFFSETFROM:-0500
TZOFFSETTO:-0400
TZNAME:EDT
DTSTART:20250309T070000
END:DAYLIGHT
BEGIN:STANDARD
TZOFFSETFROM:-0400
TZOFFSETTO:-0500
TZNAME:EST
DTSTART:20251102T060000
END:STANDARD
BEGIN:DAYLIGHT
TZOFFSETFROM:-0500
TZOFFSETTO:-0400
TZNAME:EDT
DTSTART:20260308T070000
END:DAYLIGHT
BEGIN:STANDARD
TZOFFSETFROM:-0400
TZOFFSETTO:-0500
TZNAME:EST
DTSTART:20261101T060000
END:STANDARD
BEGIN:DAYLIGHT
TZOFFSETFROM:-0500
TZOFFSETTO:-0400
TZNAME:EDT
DTSTART:20270314T070000
END:DAYLIGHT
BEGIN:STANDARD
TZOFFSETFROM:-0400
TZOFFSETTO:-0500
TZNAME:EST
DTSTART:20271107T060000
END:STANDARD
BEGIN:DAYLIGHT
TZOFFSETFROM:-0500
TZOFFSETTO:-0400
TZNAME:EDT
DTSTART:20280312T070000
END:DAYLIGHT
BEGIN:STANDARD
TZOFFSETFROM:-0400
TZOFFSETTO:-0500
TZNAME:EST
DTSTART:20281105T060000
END:STANDARD
END:VTIMEZONE
BEGIN:VEVENT
DTSTART;TZID=America/Toronto:20250115T100000
DTEND;TZID=America/Toronto:20270213T170000
DTSTAMP:20260423T122151
CREATED:20240520T090849Z
LAST-MODIFIED:20241114T203111Z
UID:4319-1736935200-1802538000@iignitinghope.org
SUMMARY:Space & STEM Learning for Girls Grade 8-12
DESCRIPTION:Calling All Young Canadian Girls from Grades 8 to 12!   \nIGNITING HOPE in Collaboration with Space Kidz India Presents a Once-in-a-Lifetime Opportunity! 🌍 \nAre you passionate about space\, science\, and technology? Do you dream of launching something to the MOON? 🚀  This is your chance to be part of an inspiring global mission! \n About Space Kidz India \nSpace Kidz India is an esteemed aerospace startup that has successfully launched 19+ Near Space Launch Vehicles (NSLVs)\, 3 suborbital payloads\, and 5 orbital satellites—with a unique focus on high school and college students. We’re dedicated to broadening access to education and inspiring the next generation of scientists and engineers. \nJoin the ShakthiSAT Mission. STEM Online Training Start Date: November 2024 \nAs part of the ShakthiSAT Mission\, 108 selected girls from Canada will receive 120+ hours of free world-class STEM training in subjects like:  \n\nPhysics\nMathematics\nHam Radio\nCoding\nPCB Designing\n\nAfter completing this comprehensive education\, you’ll get hands-on training to develop your own space payload\, which will be launched to the Moon’s orbit in 2026! \n🌍 Represent Canada \nIGNITING HOPE’s Executive Director\, Ms. Chenkplen Sandy\, has been appointed as a Devi (Ambassador) to represent Canada in this global initiative. Through her Ambassadorship\, IGNITING HOPE will mentor and guide the selected girls throughout the program. \nBe One of the 108 Girls \nIf selected\, you will be part of an elite group of 108 Canadian girls from humble backgrounds\, with the chance to learn\, innovate\, and contribute to a groundbreaking mission that unites the world through education and space exploration. \nAt the end of the program\, one outstanding student will be chosen to travel to India along with the Devi to build and integrate a payload for the launch! \n🚀 Take Off to the Moon in 2026! \nThe launch of the payload will happen in 2026\, and you could be a part of this historic event! \nHow to Apply: \nInterested girls from Grades 8-12 are encouraged to apply by contacting IGNITING HOPE. \nNo prior experience is required—just a passion for STEM and a dream to explore the stars! \nLet’s ignite your potential and take your dreams beyond the horizon! \nFor more information\, stay connect to IGNITING HOPE and Space Kidz India. \nTogether\, we can inspire the next generation of scientists and engineers!  \n 
URL:https://iignitinghope.org/event/upcoming/
LOCATION:Ontario
CATEGORIES:Upcoming Events
ATTACH;FMTTYPE=image/jpeg:https://iignitinghope.org/wp-content/uploads/2024/05/3839d24a-3eda-4491-9f20-6b4c251d69d1.jpeg
END:VEVENT
END:VCALENDAR